BEGIN:VCALENDAR
VERSION:2.0
PRODID:-//www.habitatlima.org//NONSGML kigkonsult.se iCalcreator 2.30.10//
CALSCALE:GREGORIAN
METHOD:PUBLISH
UID:9819d07e-f534-4148-8b0c-b462763e73fa
X-WR-CALDESC:
X-WR-RELCALID:64bf8cecbcb77fc14a3ccdb41323fb7f
X-WR-TIMEZONE:America/New_York
BEGIN:VTIMEZONE
TZID:America/New_York
BEGIN:STANDARD
TZNAME:EST
DTSTART:20251102T020000
TZOFFSETFROM:-0400
TZOFFSETTO:-0500
RDATE:20261101T020000
END:STANDARD
BEGIN:DAYLIGHT
TZNAME:EDT
DTSTART:20250309T020000
TZOFFSETFROM:-0500
TZOFFSETTO:-0400
RDATE:20260308T020000
RDATE:20270314T020000
END:DAYLIGHT
END:VTIMEZONE
BEGIN:VEVENT
UID:eb8581a8-8fe6-42b8-96bd-3647388fbca7
DTSTAMP:20260421T100247Z
DESCRIPTION:
DTSTART;TZID=America/New_York:20260209T163000
DTEND;TZID=America/New_York:20260209T173000
LOCATION:Habitat Conference Room
SUMMARY:Family Selection Committee Meeting
END:VEVENT
END:VCALENDAR
