BEGIN:VCALENDAR
VERSION:2.0
PRODID:-//www.habitatlima.org//NONSGML kigkonsult.se iCalcreator 2.30.10//
CALSCALE:GREGORIAN
METHOD:PUBLISH
UID:588bfe81-7df8-49ec-b97b-79c2d533ecb4
X-WR-CALDESC:
X-WR-RELCALID:71139222a543a904578534cf3dd5bf69
X-WR-TIMEZONE:America/New_York
BEGIN:VTIMEZONE
TZID:America/New_York
BEGIN:STANDARD
TZNAME:EST
DTSTART:20261101T020000
TZOFFSETFROM:-0400
TZOFFSETTO:-0500
RDATE:20271107T020000
END:STANDARD
BEGIN:DAYLIGHT
TZNAME:EDT
DTSTART:20260308T020000
TZOFFSETFROM:-0500
TZOFFSETTO:-0400
RDATE:20270314T020000
RDATE:20280312T020000
END:DAYLIGHT
END:VTIMEZONE
BEGIN:VEVENT
UID:42a49351-37c3-430f-9ba9-83b0875a6eba
DTSTAMP:20260421T082655Z
DESCRIPTION:
DTSTART;TZID=America/New_York:20270210T120000
DTEND;TZID=America/New_York:20270210T130000
LOCATION:
SUMMARY:Publication and Fundraising Committee
END:VEVENT
END:VCALENDAR
